Package: planet Version: 1.17.0 Command: /Library/Frameworks/R.framework/Resources/bin/R CMD check --install=check:planet.install-out.txt --library=/Library/Frameworks/R.framework/Resources/library --no-vignettes --timings planet_1.17.0.tar.gz StartedAt: 2025-09-21 23:11:42 -0400 (Sun, 21 Sep 2025) EndedAt: 2025-09-21 23:13:14 -0400 (Sun, 21 Sep 2025) EllapsedTime: 91.9 seconds RetCode: 0 Status: OK CheckDir: planet.Rcheck Warnings: 0