Package: pipeComp Version: 1.20.0 Command: /home/biocbuild/R/R/bin/R CMD INSTALL pipeComp StartedAt: 2025-11-17 22:07:40 -0000 (Mon, 17 Nov 2025) EndedAt: 2025-11-17 22:09:02 -0000 (Mon, 17 Nov 2025) EllapsedTime: 81.9 seconds RetCode: 0 Status: OK