Package: pipeComp Version: 1.20.0 Command: /home/biocbuild/R/R/bin/R CMD build --keep-empty-dirs --no-resave-data pipeComp StartedAt: 2025-11-18 04:00:04 -0000 (Tue, 18 Nov 2025) EndedAt: 2025-11-18 04:02:28 -0000 (Tue, 18 Nov 2025) EllapsedTime: 144.2 seconds RetCode: 0 Status: OK PackageFile: pipeComp_1.20.0.tar.gz PackageFileSize: 2.672 MiB