Package: phyloseq Version: 1.53.0 Command: /home/biocbuild/bbs-3.22-bioc/R/bin/R CMD INSTALL phyloseq StartedAt: 2025-10-19 15:17:47 -0400 (Sun, 19 Oct 2025) EndedAt: 2025-10-19 15:18:12 -0400 (Sun, 19 Oct 2025) EllapsedTime: 25.8 seconds RetCode: 0 Status: OK