Package: phyloseq Version: 1.53.0 Command: /home/biocbuild/bbs-3.22-bioc/R/bin/R CMD build --keep-empty-dirs --no-resave-data --md5 phyloseq StartedAt: 2025-10-19 19:18:03 -0400 (Sun, 19 Oct 2025) EndedAt: 2025-10-19 19:19:42 -0400 (Sun, 19 Oct 2025) EllapsedTime: 99.1 seconds RetCode: 0 Status: OK PackageFile: phyloseq_1.53.0.tar.gz PackageFileSize: 6.024 MiB