Package: phyloseq Version: 1.53.0 Command: rm -rf phyloseq.buildbin-libdir && mkdir phyloseq.buildbin-libdir && /Users/biocbuild/BBS/utils/build-universal.sh phyloseq_1.53.0.tar.gz /Library/Frameworks/R.framework/Resources/bin/R phyloseq.buildbin-libdir StartedAt: 2025-10-20 03:25:00 -0400 (Mon, 20 Oct 2025) EndedAt: 2025-10-20 03:25:41 -0400 (Mon, 20 Oct 2025) EllapsedTime: 41.7 seconds RetCode: 0 Status: OK PackageFile: phyloseq_1.53.0.tgz PackageFileSize: 6.435 MiB