Package: phyloseq Version: 1.53.0 Command: /Library/Frameworks/R.framework/Resources/bin/R CMD INSTALL phyloseq StartedAt: 2025-10-19 15:08:22 -0400 (Sun, 19 Oct 2025) EndedAt: 2025-10-19 15:08:32 -0400 (Sun, 19 Oct 2025) EllapsedTime: 9.7 seconds RetCode: 0 Status: OK