Package: philr Version: 1.35.0 Command: /home/biocbuild/R/R/bin/R CMD INSTALL philr StartedAt: 2025-10-16 21:21:13 -0000 (Thu, 16 Oct 2025) EndedAt: 2025-10-16 21:21:43 -0000 (Thu, 16 Oct 2025) EllapsedTime: 30.0 seconds RetCode: 0 Status: OK