Package: philr Version: 1.35.0 Command: /home/biocbuild/bbs-3.22-bioc/R/bin/R CMD INSTALL philr StartedAt: 2025-10-02 15:11:04 -0400 (Thu, 02 Oct 2025) EndedAt: 2025-10-02 15:11:19 -0400 (Thu, 02 Oct 2025) EllapsedTime: 15.3 seconds RetCode: 0 Status: OK