Package: philr Version: 1.35.0 Command: /home/biocbuild/bbs-3.22-bioc/R/bin/R CMD build --keep-empty-dirs --no-resave-data --md5 philr StartedAt: 2025-10-01 19:39:01 -0400 (Wed, 01 Oct 2025) EndedAt: 2025-10-01 19:39:40 -0400 (Wed, 01 Oct 2025) EllapsedTime: 39.0 seconds RetCode: 0 Status: OK PackageFile: philr_1.35.0.tar.gz PackageFileSize: 533.6 KiB