Package: philr Version: 1.35.0 Command: /Library/Frameworks/R.framework/Resources/bin/R CMD INSTALL philr StartedAt: 2025-10-19 15:14:35 -0400 (Sun, 19 Oct 2025) EndedAt: 2025-10-19 15:15:09 -0400 (Sun, 19 Oct 2025) EllapsedTime: 33.5 seconds RetCode: 0 Status: OK