Package: philr Version: 1.35.0 Command: rm -rf philr.buildbin-libdir && mkdir philr.buildbin-libdir && /Users/biocbuild/BBS/utils/build-universal.sh philr_1.35.0.tar.gz /Library/Frameworks/R.framework/Resources/bin/R philr.buildbin-libdir StartedAt: 2025-10-20 03:24:56 -0400 (Mon, 20 Oct 2025) EndedAt: 2025-10-20 03:25:13 -0400 (Mon, 20 Oct 2025) EllapsedTime: 17.3 seconds RetCode: 0 Status: OK PackageFile: philr_1.35.0.tgz PackageFileSize: 578.3 KiB