Package: philr Version: 1.35.0 Command: rm -rf philr.buildbin-libdir && mkdir philr.buildbin-libdir && /Users/biocbuild/BBS/utils/build-universal.sh philr_1.35.0.tar.gz /Library/Frameworks/R.framework/Resources/bin/R philr.buildbin-libdir StartedAt: 2025-10-19 23:10:27 -0400 (Sun, 19 Oct 2025) EndedAt: 2025-10-19 23:10:32 -0400 (Sun, 19 Oct 2025) EllapsedTime: 5.1 seconds RetCode: 0 Status: OK PackageFile: philr_1.35.0.tgz PackageFileSize: 579 KiB