Package: philr Version: 1.36.0 Command: /Library/Frameworks/R.framework/Resources/bin/R CMD INSTALL philr StartedAt: 2025-11-17 17:07:49 -0500 (Mon, 17 Nov 2025) EndedAt: 2025-11-17 17:07:54 -0500 (Mon, 17 Nov 2025) EllapsedTime: 4.7 seconds RetCode: 0 Status: OK