Package: philr Version: 1.36.0 Command: rm -rf philr.buildbin-libdir && mkdir philr.buildbin-libdir && /Users/biocbuild/BBS/utils/build-universal.sh philr_1.36.0.tar.gz /Library/Frameworks/R.framework/Resources/bin/R philr.buildbin-libdir StartedAt: 2025-11-18 16:06:44 -0500 (Tue, 18 Nov 2025) EndedAt: 2025-11-18 16:06:50 -0500 (Tue, 18 Nov 2025) EllapsedTime: 6.1 seconds RetCode: 0 Status: OK PackageFile: philr_1.36.0.tgz PackageFileSize: 578.7 KiB