Package: phenopath Version: 1.33.0 Command: /Library/Frameworks/R.framework/Resources/bin/R CMD INSTALL phenopath StartedAt: 2025-10-01 15:12:17 -0400 (Wed, 01 Oct 2025) EndedAt: 2025-10-01 15:12:29 -0400 (Wed, 01 Oct 2025) EllapsedTime: 12.4 seconds RetCode: 0 Status: OK