Package: phenopath Version: 1.33.0 Command: /Library/Frameworks/R.framework/Resources/bin/R CMD check --install=check:phenopath.install-out.txt --library=/Library/Frameworks/R.framework/Resources/library --no-vignettes --timings phenopath_1.33.0.tar.gz StartedAt: 2025-10-01 21:06:14 -0400 (Wed, 01 Oct 2025) EndedAt: 2025-10-01 21:07:26 -0400 (Wed, 01 Oct 2025) EllapsedTime: 72.8 seconds RetCode: 0 Status: OK CheckDir: phenopath.Rcheck Warnings: 0