Package: phenomis Version: 1.11.0 Command: F:\biocbuild\bbs-3.22-bioc\R\bin\R.exe CMD INSTALL phenomis StartedAt: 2025-08-14 16:14:20 -0400 (Thu, 14 Aug 2025) EndedAt: 2025-08-14 16:15:25 -0400 (Thu, 14 Aug 2025) EllapsedTime: 64.7 seconds RetCode: 0 Status: OK