Package: phenomis Version: 1.11.0 Command: chmod a+r phenomis -R && F:\biocbuild\bbs-3.22-bioc\R\bin\R.exe CMD build --keep-empty-dirs --no-resave-data phenomis StartedAt: 2025-08-14 22:18:39 -0400 (Thu, 14 Aug 2025) EndedAt: 2025-08-14 22:20:49 -0400 (Thu, 14 Aug 2025) EllapsedTime: 129.6 seconds RetCode: 0 Status: OK PackageFile: phenomis_1.11.0.tar.gz PackageFileSize: 2.31 MiB