Package: phenomis Version: 1.11.0 Command: /Library/Frameworks/R.framework/Resources/bin/R CMD check --install=check:phenomis.install-out.txt --library=/Library/Frameworks/R.framework/Resources/library --no-vignettes --timings phenomis_1.11.0.tar.gz StartedAt: 2025-10-24 23:17:42 -0400 (Fri, 24 Oct 2025) EndedAt: 2025-10-24 23:23:50 -0400 (Fri, 24 Oct 2025) EllapsedTime: 367.3 seconds RetCode: 0 Status: OK CheckDir: phenomis.Rcheck Warnings: 0