Package: phenomis Version: 1.11.0 Command: /Library/Frameworks/R.framework/Resources/bin/R CMD build --keep-empty-dirs --no-resave-data phenomis StartedAt: 2025-10-23 18:09:25 -0400 (Thu, 23 Oct 2025) EndedAt: 2025-10-23 18:11:12 -0400 (Thu, 23 Oct 2025) EllapsedTime: 107.4 seconds RetCode: 0 Status: OK PackageFile: phenomis_1.11.0.tar.gz PackageFileSize: 3.939 MiB