Package: phenomis Version: 1.11.0 Command: /Library/Frameworks/R.framework/Resources/bin/R CMD build --keep-empty-dirs --no-resave-data phenomis StartedAt: 2025-10-24 17:21:15 -0400 (Fri, 24 Oct 2025) EndedAt: 2025-10-24 17:21:54 -0400 (Fri, 24 Oct 2025) EllapsedTime: 38.4 seconds RetCode: 0 Status: OK PackageFile: phenomis_1.11.0.tar.gz PackageFileSize: 3.937 MiB