Package: phantasusLite Version: 1.7.0 Command: rm -rf phantasusLite.buildbin-libdir && mkdir phantasusLite.buildbin-libdir && /Users/biocbuild/BBS/utils/build-universal.sh phantasusLite_1.7.0.tar.gz /Library/Frameworks/R.framework/Resources/bin/R phantasusLite.buildbin-libdir StartedAt: 2025-10-23 23:20:59 -0400 (Thu, 23 Oct 2025) EndedAt: 2025-10-23 23:21:07 -0400 (Thu, 23 Oct 2025) EllapsedTime: 8.2 seconds RetCode: 0 Status: OK PackageFile: phantasusLite_1.7.0.tgz PackageFileSize: 306.3 KiB