Package: pgca Version: 1.33.0 Command: /home/biocbuild/R/R/bin/R CMD INSTALL pgca StartedAt: 2025-10-20 20:09:11 -0000 (Mon, 20 Oct 2025) EndedAt: 2025-10-20 20:09:22 -0000 (Mon, 20 Oct 2025) EllapsedTime: 10.9 seconds RetCode: 0 Status: OK