Package: pgca Version: 1.33.0 Command: rm -rf pgca.buildbin-libdir && mkdir pgca.buildbin-libdir && F:\biocbuild\bbs-3.22-bioc\R\bin\R.exe CMD INSTALL --build --library=pgca.buildbin-libdir pgca_1.33.0.tar.gz StartedAt: 2025-08-15 10:56:42 -0400 (Fri, 15 Aug 2025) EndedAt: 2025-08-15 10:56:57 -0400 (Fri, 15 Aug 2025) EllapsedTime: 14.3 seconds RetCode: 0 Status: OK PackageFile: pgca_1.33.0.zip PackageFileSize: 149.7 KiB