Package: pgca Version: 1.33.0 Command: /home/biocbuild/bbs-3.22-bioc/R/bin/R CMD INSTALL pgca StartedAt: 2025-10-19 15:03:21 -0400 (Sun, 19 Oct 2025) EndedAt: 2025-10-19 15:03:26 -0400 (Sun, 19 Oct 2025) EllapsedTime: 4.8 seconds RetCode: 0 Status: OK