Package: pgca Version: 1.34.0 Command: /Library/Frameworks/R.framework/Resources/bin/R CMD INSTALL pgca StartedAt: 2025-11-17 16:48:50 -0500 (Mon, 17 Nov 2025) EndedAt: 2025-11-17 16:48:55 -0500 (Mon, 17 Nov 2025) EllapsedTime: 4.5 seconds RetCode: 0 Status: OK