Package: pgca Version: 1.34.0 Command: rm -rf pgca.buildbin-libdir && mkdir pgca.buildbin-libdir && /Users/biocbuild/BBS/utils/build-universal.sh pgca_1.34.0.tar.gz /Library/Frameworks/R.framework/Resources/bin/R pgca.buildbin-libdir StartedAt: 2025-11-18 18:15:21 -0500 (Tue, 18 Nov 2025) EndedAt: 2025-11-18 18:15:27 -0500 (Tue, 18 Nov 2025) EllapsedTime: 6.1 seconds RetCode: 0 Status: OK PackageFile: pgca_1.34.0.tgz PackageFileSize: 143.6 KiB