Package: pgca Version: 1.33.0 Command: /Library/Frameworks/R.framework/Resources/bin/R CMD check --install=check:pgca.install-out.txt --library=/Library/Frameworks/R.framework/Resources/library --no-vignettes --timings pgca_1.33.0.tar.gz StartedAt: 2025-10-21 21:18:14 -0400 (Tue, 21 Oct 2025) EndedAt: 2025-10-21 21:18:25 -0400 (Tue, 21 Oct 2025) EllapsedTime: 11.1 seconds RetCode: 0 Status: OK CheckDir: pgca.Rcheck Warnings: 0