Package: pfamAnalyzeR Version: 1.9.0 Command: /home/biocbuild/R/R/bin/R CMD INSTALL pfamAnalyzeR StartedAt: 2025-10-20 20:18:40 -0000 (Mon, 20 Oct 2025) EndedAt: 2025-10-20 20:18:55 -0000 (Mon, 20 Oct 2025) EllapsedTime: 14.4 seconds RetCode: 0 Status: OK