Package: pfamAnalyzeR Version: 1.9.0 Command: /home/biocbuild/bbs-3.22-bioc/R/bin/R CMD check --install=check:pfamAnalyzeR.install-out.txt --library=/home/biocbuild/bbs-3.22-bioc/R/site-library --timings pfamAnalyzeR_1.9.0.tar.gz StartedAt: 2025-10-20 03:13:08 -0400 (Mon, 20 Oct 2025) EndedAt: 2025-10-20 03:13:34 -0400 (Mon, 20 Oct 2025) EllapsedTime: 26.0 seconds RetCode: 0 Status: OK CheckDir: pfamAnalyzeR.Rcheck Warnings: 0