Package: pfamAnalyzeR Version: 1.9.0 Command: /Library/Frameworks/R.framework/Resources/bin/R CMD INSTALL pfamAnalyzeR StartedAt: 2025-10-19 15:12:17 -0400 (Sun, 19 Oct 2025) EndedAt: 2025-10-19 15:12:41 -0400 (Sun, 19 Oct 2025) EllapsedTime: 23.8 seconds RetCode: 0 Status: OK