Package: pfamAnalyzeR Version: 1.9.0 Command: rm -rf pfamAnalyzeR.buildbin-libdir && mkdir pfamAnalyzeR.buildbin-libdir && /Users/biocbuild/BBS/utils/build-universal.sh pfamAnalyzeR_1.9.0.tar.gz /Library/Frameworks/R.framework/Resources/bin/R pfamAnalyzeR.buildbin-libdir StartedAt: 2025-10-20 03:24:49 -0400 (Mon, 20 Oct 2025) EndedAt: 2025-10-20 03:24:58 -0400 (Mon, 20 Oct 2025) EllapsedTime: 9.3 seconds RetCode: 0 Status: OK PackageFile: pfamAnalyzeR_1.9.0.tgz PackageFileSize: 310.9 KiB