Package: pfamAnalyzeR Version: 1.9.0 Command: /Library/Frameworks/R.framework/Resources/bin/R CMD INSTALL pfamAnalyzeR StartedAt: 2025-10-21 15:05:43 -0400 (Tue, 21 Oct 2025) EndedAt: 2025-10-21 15:05:46 -0400 (Tue, 21 Oct 2025) EllapsedTime: 2.8 seconds RetCode: 0 Status: OK