Package: pfamAnalyzeR Version: 1.9.0 Command: /Library/Frameworks/R.framework/Resources/bin/R CMD build --keep-empty-dirs --no-resave-data pfamAnalyzeR StartedAt: 2025-10-21 17:22:09 -0400 (Tue, 21 Oct 2025) EndedAt: 2025-10-21 17:22:12 -0400 (Tue, 21 Oct 2025) EllapsedTime: 3.0 seconds RetCode: 0 Status: OK PackageFile: pfamAnalyzeR_1.9.0.tar.gz PackageFileSize: 351.8 KiB