Package: periodicDNA Version: 1.20.0 Command: /Library/Frameworks/R.framework/Resources/bin/R CMD check --install=check:periodicDNA.install-out.txt --library=/Library/Frameworks/R.framework/Resources/library --no-vignettes --timings periodicDNA_1.20.0.tar.gz StartedAt: 2025-11-10 21:35:51 -0500 (Mon, 10 Nov 2025) EndedAt: 2025-11-10 21:38:12 -0500 (Mon, 10 Nov 2025) EllapsedTime: 141.6 seconds RetCode: 0 Status: WARNINGS CheckDir: periodicDNA.Rcheck Warnings: 1