Package: periodicDNA Version: 1.20.0 Command: rm -rf periodicDNA.buildbin-libdir && mkdir periodicDNA.buildbin-libdir && /Users/biocbuild/BBS/utils/build-universal.sh periodicDNA_1.20.0.tar.gz /Library/Frameworks/R.framework/Resources/bin/R periodicDNA.buildbin-libdir StartedAt: 2025-10-31 23:17:59 -0400 (Fri, 31 Oct 2025) EndedAt: 2025-10-31 23:18:16 -0400 (Fri, 31 Oct 2025) EllapsedTime: 16.3 seconds RetCode: 0 Status: OK PackageFile: periodicDNA_1.20.0.tgz PackageFileSize: 3.059 MiB