Package: pepXMLTab Version: 1.43.0 Command: /home/biocbuild/bbs-3.22-bioc/R/bin/R CMD INSTALL pepXMLTab StartedAt: 2025-10-19 15:03:32 -0400 (Sun, 19 Oct 2025) EndedAt: 2025-10-19 15:03:40 -0400 (Sun, 19 Oct 2025) EllapsedTime: 8.2 seconds RetCode: 0 Status: OK