Package: pepXMLTab Version: 1.43.0 Command: /home/biocbuild/bbs-3.22-bioc/R/bin/R CMD check --install=check:pepXMLTab.install-out.txt --library=/home/biocbuild/bbs-3.22-bioc/R/site-library --timings pepXMLTab_1.43.0.tar.gz StartedAt: 2025-10-20 03:12:44 -0400 (Mon, 20 Oct 2025) EndedAt: 2025-10-20 03:13:08 -0400 (Mon, 20 Oct 2025) EllapsedTime: 24.0 seconds RetCode: 0 Status: OK CheckDir: pepXMLTab.Rcheck Warnings: 0