Package: pepXMLTab Version: 1.43.0 Command: /Library/Frameworks/R.framework/Resources/bin/R CMD build --keep-empty-dirs --no-resave-data pepXMLTab StartedAt: 2025-10-19 17:17:49 -0400 (Sun, 19 Oct 2025) EndedAt: 2025-10-19 17:17:54 -0400 (Sun, 19 Oct 2025) EllapsedTime: 5.1 seconds RetCode: 0 Status: OK PackageFile: pepXMLTab_1.43.0.tar.gz PackageFileSize: 187.6 KiB