Package: pepStat Version: 1.43.0 Command: /home/biocbuild/R/R/bin/R CMD build --keep-empty-dirs --no-resave-data pepStat StartedAt: 2025-10-21 02:01:48 -0000 (Tue, 21 Oct 2025) EndedAt: 2025-10-21 02:02:59 -0000 (Tue, 21 Oct 2025) EllapsedTime: 71.0 seconds RetCode: 0 Status: OK PackageFile: pepStat_1.43.0.tar.gz PackageFileSize: 314.5 KiB