Package: pepStat Version: 1.43.0 Command: rm -rf pepStat.buildbin-libdir && mkdir pepStat.buildbin-libdir && F:\biocbuild\bbs-3.22-bioc\R\bin\R.exe CMD INSTALL --build --library=pepStat.buildbin-libdir pepStat_1.43.0.tar.gz StartedAt: 2025-08-15 10:56:31 -0400 (Fri, 15 Aug 2025) EndedAt: 2025-08-15 10:57:27 -0400 (Fri, 15 Aug 2025) EllapsedTime: 56.0 seconds RetCode: 0 Status: OK PackageFile: pepStat_1.43.0.zip PackageFileSize: 714.7 KiB