Package: pepStat Version: 1.43.0 Command: /home/biocbuild/bbs-3.22-bioc/R/bin/R CMD build --keep-empty-dirs --no-resave-data --md5 pepStat StartedAt: 2025-10-19 19:16:28 -0400 (Sun, 19 Oct 2025) EndedAt: 2025-10-19 19:17:19 -0400 (Sun, 19 Oct 2025) EllapsedTime: 51.1 seconds RetCode: 0 Status: OK PackageFile: pepStat_1.43.0.tar.gz PackageFileSize: 321.9 KiB