Package: peco Version: 1.21.1 Command: /home/biocbuild/R/R/bin/R CMD INSTALL peco StartedAt: 2025-10-16 22:21:53 -0000 (Thu, 16 Oct 2025) EndedAt: 2025-10-16 22:22:30 -0000 (Thu, 16 Oct 2025) EllapsedTime: 37.3 seconds RetCode: 0 Status: OK