Package: peco Version: 1.21.1 Command: /home/biocbuild/R/R/bin/R CMD check --install=check:peco.install-out.txt --library=/home/biocbuild/R/R/site-library --no-vignettes --timings peco_1.21.1.tar.gz StartedAt: 2025-10-17 12:07:22 -0000 (Fri, 17 Oct 2025) EndedAt: 2025-10-17 12:18:42 -0000 (Fri, 17 Oct 2025) EllapsedTime: 680.0 seconds RetCode: 0 Status: OK CheckDir: peco.Rcheck Warnings: 0