Package: peco Version: 1.21.1 Command: /home/biocbuild/bbs-3.22-bioc/R/bin/R CMD INSTALL peco StartedAt: 2025-10-19 15:56:33 -0400 (Sun, 19 Oct 2025) EndedAt: 2025-10-19 15:57:00 -0400 (Sun, 19 Oct 2025) EllapsedTime: 27.5 seconds RetCode: 0 Status: OK