Package: peco Version: 1.21.1 Command: /Library/Frameworks/R.framework/Resources/bin/R CMD build --keep-empty-dirs --no-resave-data peco StartedAt: 2025-10-21 18:59:31 -0400 (Tue, 21 Oct 2025) EndedAt: 2025-10-21 19:02:31 -0400 (Tue, 21 Oct 2025) EllapsedTime: 179.9 seconds RetCode: 0 Status: OK PackageFile: peco_1.21.1.tar.gz PackageFileSize: 1.067 MiB