Package: peco Version: 1.21.1 Command: /Library/Frameworks/R.framework/Resources/bin/R CMD INSTALL peco StartedAt: 2025-10-19 15:29:24 -0400 (Sun, 19 Oct 2025) EndedAt: 2025-10-19 15:29:36 -0400 (Sun, 19 Oct 2025) EllapsedTime: 11.3 seconds RetCode: 0 Status: OK