Package: peco Version: 1.21.1 Command: /Library/Frameworks/R.framework/Resources/bin/R CMD check --install=check:peco.install-out.txt --library=/Library/Frameworks/R.framework/Resources/library --no-vignettes --timings peco_1.21.1.tar.gz StartedAt: 2025-10-19 21:14:30 -0400 (Sun, 19 Oct 2025) EndedAt: 2025-10-19 21:18:10 -0400 (Sun, 19 Oct 2025) EllapsedTime: 219.6 seconds RetCode: 0 Status: OK CheckDir: peco.Rcheck Warnings: 0