Package: peco Version: 1.21.1 Command: /Library/Frameworks/R.framework/Resources/bin/R CMD build --keep-empty-dirs --no-resave-data peco StartedAt: 2025-10-19 17:17:36 -0400 (Sun, 19 Oct 2025) EndedAt: 2025-10-19 17:18:39 -0400 (Sun, 19 Oct 2025) EllapsedTime: 63.7 seconds RetCode: 0 Status: OK PackageFile: peco_1.21.1.tar.gz PackageFileSize: 1.067 MiB